BEGIN:VCALENDAR
VERSION:2.0
PRODID:-//Columbia Club of New York - ECPv4.4.1.1//NONSGML v1.0//EN
CALSCALE:GREGORIAN
METHOD:PUBLISH
X-WR-CALNAME:Columbia Club of New York
X-ORIGINAL-URL:https://www.columbiaclub.org
X-WR-CALDESC:Events for Columbia Club of New York
BEGIN:VEVENT
DTSTART;TZID=America/New_York:20260524T160000
DTEND;TZID=America/New_York:20260524T180000
DTSTAMP:20260423T103446
CREATED:20260419T204011Z
LAST-MODIFIED:20260421T181229Z
UID:13582-1779638400-1779645600@www.columbiaclub.org
SUMMARY:Country Club Social - Westchester\, NY
DESCRIPTION:RSPV HERE!\nClubhouse Social (Open to All)Sunday\, May 244:00 PM – 6:00 PM\nIncludes hors d’oeuvres\, 1 wine/beer\n\n\n \tEarly Bird Social Tickets:  $39 (First 40)\n \tStandard Social Tickets:  $45 (Next 40)\n \tLast Call! Social Tickets:  $55 (Last 20)\n\n* Golf no longer available!  Thanks for your strong interest.\nJoin fellow members of the Columbia Club of New York for a relaxed afternoon at our Country Club Social in Westchester\, NY\, hosted at the historic Saint Andrew’s Golf Club—widely recognized as the oldest golf club in the United States\, founded in 1888.\nEvent made possible by Columbia Club member\, Renuka Rao Bijoor.\n\nThe club’s stately clubhouse blends classic architecture with modern updates\, offering sweeping views of the Hudson River and surrounding fairways. Inside\, you’ll find a warm\, traditional setting that reflects over a century of golfing heritage—making it an ideal backdrop for a relaxed and elegant gathering.\nThe golf course itself is equally storied. Originally laid out in the late 19th century\, it has evolved over time while preserving its historic character. A recent redesign by Jack Nicklaus thoughtfully modernized the layout\, enhancing playability while maintaining the course’s natural terrain and scenic beauty. The result is a challenging yet approachable course known for its rolling hills\, strategic design\, and picturesque vistas.\nMore information can be found at:\nHistoric Private Golf Near NYC | The Saint Andrew’s Golf Club
URL:https://www.columbiaclub.org/event/country-club-summer-social-westchester-ny/
LOCATION:10 Old Jackson Avenue\, Hastings on the Hudson\, NY\, 10706\, United States
END:VEVENT
END:VCALENDAR