BEGIN:VCALENDAR
VERSION:2.0
PRODID:-//Columbia Club of New York - ECPv4.4.1.1//NONSGML v1.0//EN
CALSCALE:GREGORIAN
METHOD:PUBLISH
X-WR-CALNAME:Columbia Club of New York
X-ORIGINAL-URL:https://www.columbiaclub.org
X-WR-CALDESC:Events for Columbia Club of New York
BEGIN:VEVENT
DTSTART;TZID=America/New_York:20260509T153000
DTEND;TZID=America/New_York:20260509T173000
DTSTAMP:20260422T135707
CREATED:20260407T235523Z
LAST-MODIFIED:20260413T200949Z
UID:13552-1778340600-1778347800@www.columbiaclub.org
SUMMARY:Upper East Side Gallery Walk
DESCRIPTION:
URL:https://www.columbiaclub.org/event/upper-east-side-gallery-walk/
END:VEVENT
END:VCALENDAR